BEGIN:VCALENDAR
VERSION:2.0
PRODID:-//Queensbury BIlliards - ECPv6.15.20//NONSGML v1.0//EN
CALSCALE:GREGORIAN
METHOD:PUBLISH
X-WR-CALNAME:Queensbury BIlliards
X-ORIGINAL-URL:https://qbbac.com
X-WR-CALDESC:Events for Queensbury BIlliards
REFRESH-INTERVAL;VALUE=DURATION:PT1H
X-Robots-Tag:noindex
X-PUBLISHED-TTL:PT1H
BEGIN:VTIMEZONE
TZID:America/New_York
BEGIN:DAYLIGHT
TZOFFSETFROM:-0500
TZOFFSETTO:-0400
TZNAME:EDT
DTSTART:20230312T070000
END:DAYLIGHT
BEGIN:STANDARD
TZOFFSETFROM:-0400
TZOFFSETTO:-0500
TZNAME:EST
DTSTART:20231105T060000
END:STANDARD
BEGIN:DAYLIGHT
TZOFFSETFROM:-0500
TZOFFSETTO:-0400
TZNAME:EDT
DTSTART:20240310T070000
END:DAYLIGHT
BEGIN:STANDARD
TZOFFSETFROM:-0400
TZOFFSETTO:-0500
TZNAME:EST
DTSTART:20241103T060000
END:STANDARD
BEGIN:DAYLIGHT
TZOFFSETFROM:-0500
TZOFFSETTO:-0400
TZNAME:EDT
DTSTART:20250309T070000
END:DAYLIGHT
BEGIN:STANDARD
TZOFFSETFROM:-0400
TZOFFSETTO:-0500
TZNAME:EST
DTSTART:20251102T060000
END:STANDARD
BEGIN:DAYLIGHT
TZOFFSETFROM:-0500
TZOFFSETTO:-0400
TZNAME:EDT
DTSTART:20260308T070000
END:DAYLIGHT
BEGIN:STANDARD
TZOFFSETFROM:-0400
TZOFFSETTO:-0500
TZNAME:EST
DTSTART:20261101T060000
END:STANDARD
END:VTIMEZONE
BEGIN:VTIMEZONE
TZID:UTC
BEGIN:STANDARD
TZOFFSETFROM:+0000
TZOFFSETTO:+0000
TZNAME:UTC
DTSTART:20230101T000000
END:STANDARD
END:VTIMEZONE
BEGIN:VEVENT
DTSTART;TZID=America/New_York:20250510T160000
DTEND;TZID=America/New_York:20250510T180000
DTSTAMP:20260421T223258
CREATED:20250417T010035Z
LAST-MODIFIED:20250429T143514Z
UID:796-1746892800-1746900000@qbbac.com
SUMMARY:Buzzin’ with Bouquets
DESCRIPTION:A Mother’s Day Floral & Wine Experience \nJoin us for a hands-on bouquet-making workshop in celebration of Mother’s Day! Led by local farmer-florist Rachel\, you’ll learn how to design your own beautiful\, seasonal floral arrangement—while enjoying a glass of Adirondack Winery Cabernet Franc Rosé 🍷💐 \nWhether you’re treating yourself\, your mom\, or making it a girls’ night out\, this is the perfect way to welcome spring and celebrate the mamas in your life! \n🗓 Date: Saturday\, May 10th🕓 Time: 4:00 PM – 6:00 PM💐 Price: $45 (one glass of Adirondack Winery Cabernet Franc Rosé + all bouquet supplies)📍 Location: Queensbury Billiards & Cafe \n🥂 Additional food and drinks will be available for purchase at the bar—so come hungry and thirsty! \n🎱 After the workshop\, stick around for some fun!We’re offering unlimited pool play for just $5 for all the ladies. Grab a cue\, rack ’em up\, and keep the good vibes going! \n🔔 Ticket sales close May 5th to ensure we have all materials ready—don’t wait to grab your spot! \nPlease note: Styles and colors of blooms will vary from photos based on seasonal availability. \nSpaces are limited—come sip\, snip\, and get a little buzzed with us!
URL:https://qbbac.com/event/buzzin-with-bouquets/
LOCATION:Queensbury Billiards & Café\, 324 Quaker Road\, Queensbury\, NY\, 12804\, United States
ORGANIZER;CN="Queensbury Billiards & Cafe":MAILTO:queensburybilliards@gmail.com
END:VEVENT
BEGIN:VEVENT
DTSTART;TZID=America/New_York:20250418T183000
DTEND;TZID=America/New_York:20250418T203000
DTSTAMP:20260421T223258
CREATED:20250331T231819Z
LAST-MODIFIED:20250331T231819Z
UID:766-1745001000-1745008200@qbbac.com
SUMMARY:Ladies Casino Game Night
DESCRIPTION:📅 Date: April 18th⏰ Time: 6:30 PM – 8:30 PM📍 Location: Queensbury Billiards & Café\n324 Quaker Rd\, Queensbury – inside the Meadowbrook Plaza \n💃 Ladies\, ready for a night of fun\, laughter\, and learning casino games without the risk? Join us for a stress-free\, judgment-free evening filled with exciting card games\, great drinks\, and even better company! \n\nWhat to Expect:✨ Learn and play classic casino games like Blackjack\, Texas Hold’em\, Stud Poker\, and Pai Gow – no experience needed!✨ Tim Sokol will be your expert host\, dealing the cards\, teaching the games\, and sharing insider tips.✨ No real gambling – we play with fun chips\, so no risk involved!✨ A chance to win a prize\, but the night is all about fun\, not competition.✨ Learn how to read people beyond words – a skill useful in relationships\, friendships\, and work!✨ Discover games that are great for your brain and strategy skills.✨ Enjoy a night out with food\, drinks\, and fantastic company!\n(Food and drinks can be purchased at the bar)! \n🎟️ Tickets: ONLY $15 – includes a Bay Breeze cocktail!(Must be 21+ for alcohol – please bring ID.) \n📢 Tag your friends and RSVP now – spots are limited! Don’t miss this chance to laugh\, learn\, and let loose! \n#LadiesCasinoNight #QueensburyBilliards #NoRiskJustFun #GirlsNightOut #CardGamesAndCocktails
URL:https://qbbac.com/event/ladies-casino-game-night/
LOCATION:Queensbury Billiards & Café\, 324 Quaker Road\, Queensbury\, NY\, 12804\, United States
ORGANIZER;CN="Queensbury Billiards & Cafe":MAILTO:queensburybilliards@gmail.com
END:VEVENT
BEGIN:VEVENT
DTSTART;TZID=America/New_York:20250301T140000
DTEND;TZID=America/New_York:20250301T150000
DTSTAMP:20260421T223258
CREATED:20250114T004013Z
LAST-MODIFIED:20250225T020752Z
UID:657-1740837600-1740841200@qbbac.com
SUMMARY:🧸❤ Sweetheart Stuffy Party ❤🧸
DESCRIPTION:Join Us for a Stuffy Party! 🧸❤️ \n📣 Calling all kids (and their grown-ups!) to Queensbury Billiards & Café for a fun-filled event with Miss Katasha\, the creative mind behind OllieBear N Mum. \n💖 What to Expect:\n✨ Build your own 8-inch stuffed animal—perfect for ages 3 and up!\n✨ Choose from six adorable stuffy designs (first come\, first served).\n✨ Get a complimentary shirt for your new stuffed friend!\n✨ Add a personal touch with optional accessories available for purchase. \n👨‍👩‍👧‍👦 Family-Friendly Fun: \nAll children must be accompanied by an adult throughout the event.\nAdditional food and beverages are available for purchase at the bar—so grown-ups can relax while the kids work their magic!\n💌 Don’t miss this sweet opportunity to create special memories and bring home a cuddly new friend! \n🚨 Limited Spots Available!\nOnly 20 tickets are up for grabs—get yours before they’re gone!
URL:https://qbbac.com/event/%f0%9f%a7%b8%e2%9d%a4-sweetheart-stuffy-party-%e2%9d%a4%f0%9f%a7%b8/
LOCATION:Queensbury Billiards & Café\, 324 Quaker Road\, Queensbury\, NY\, 12804\, United States
ORGANIZER;CN="Queensbury Billiards & Cafe":MAILTO:queensburybilliards@gmail.com
END:VEVENT
BEGIN:VEVENT
DTSTART;TZID=America/New_York:20250207T183000
DTEND;TZID=America/New_York:20250207T203000
DTSTAMP:20260421T223258
CREATED:20250118T190628Z
LAST-MODIFIED:20250118T190628Z
UID:666-1738953000-1738960200@qbbac.com
SUMMARY:Brushstrokes\, Besties & Heartfelt Memories
DESCRIPTION:“Brushstrokes\, Besties & Heartfelt Memories” – Valentine’s Sip & Paint Night \n \nBring your creativity and your loved ones for a night of fun and painting at our Valentine’s Sip & Paint event! Whether you’re with your partner or your besties\, this is the perfect opportunity to make memories while creating your own masterpiece. \n\nWhat’s Included:\n\nA complimentary Valentine’s cocktail to kick off the evening\nAll materials provided – canvas\, paints\, brushes\, aprons\, and more!\nExpert instruction by the talented Art Educator Keri\, guiding you step-by-step to create a beautiful painting\nA fun\, relaxed atmosphere to enjoy with friends or a loved one\n\nAdditional Info: \n\nAdditional food and drinks are available for purchase at the bar\nMusic\, laughter\, and love in the air!\n\nBook Your Spot Now! Come for the brushstrokes\, stay for the memories! 💕🎨🍷
URL:https://qbbac.com/event/brushstrokes-besties-heartfelt-memories/
LOCATION:Queensbury Billiards & Café\, 324 Quaker Road\, Queensbury\, NY\, 12804\, United States
ORGANIZER;CN="Queensbury Billiards & Cafe":MAILTO:queensburybilliards@gmail.com
END:VEVENT
BEGIN:VEVENT
DTSTART;TZID=America/New_York:20241227T130000
DTEND;TZID=America/New_York:20241227T140000
DTSTAMP:20260421T223258
CREATED:20241215T214008Z
LAST-MODIFIED:20241215T215143Z
UID:590-1735304400-1735308000@qbbac.com
SUMMARY:Little Artists’ Snowman Paint Party
DESCRIPTION:Event by Queensbury Billiards & Café\n\n\n\n\n\n\n\n\n\n324 Quaker rd queensbury NY 12804 Suite8\, Queensbury\, NY\, United States\, New York 12804\n\n\n\n\n\n\n\n\n\n\n\n\nDuration: 1 hr\n\n\n\n\n\n\n\n\n\n\n\nPublic  · Anyone on or off Facebook\n\n\n\n\n\n\n\nLooking for a fun and creative activity for the kids during winter break? Join us at Queensbury Billiards & Café for a special snowman-themed painting event led by the amazing art educator Keri Dudek! \n\nWhat’s Included: All Art Supplies: Canvas\, paints\, brushes—everything your child needs to create their masterpiece! Complimentary Hot Cocoa: Kids can sip on a warm treat while they paint.\n\n\nEvent Details:Hosted in our dine-in area\, making it a cozy and welcoming space for everyone.Food and drinks are available for purchase at the bar\, making it a perfect opportunity for parents to relax while the kids get creative.Limited to 20 spots to ensure a personalized and fun experience for all.All children must be supervised by an adult throughout the event. \n\n\nPerfect for young artists of all skill levels\, this event promises an afternoon of fun\, laughter\, and artistic expression for the whole family. \n\nReserve your spot today and make winter break an unforgettable creative adventure! 
URL:https://qbbac.com/event/little-artists-snowman-paint-party/
LOCATION:Queensbury Billiards & Café\, 324 Quaker Road\, Queensbury\, NY\, 12804\, United States
ORGANIZER;CN="Queensbury Billiards & Cafe":MAILTO:queensburybilliards@gmail.com
END:VEVENT
BEGIN:VEVENT
DTSTART;TZID=America/New_York:20241123T170000
DTEND;TZID=America/New_York:20241123T190000
DTSTAMP:20260421T223258
CREATED:20241029T212833Z
LAST-MODIFIED:20241029T232408Z
UID:517-1732381200-1732388400@qbbac.com
SUMMARY:🎨 Friendsgiving Paint Night! 🍷✨
DESCRIPTION:🎨 Join Us for a Friendsgiving Paint Night! 🍷✨ \nGet ready to unleash your creativity at Queensbury Billiards & Cafe with our special Friendsgiving Paint Night featuring the talented art educator Keri Dudek! \n🗓 Date: 11/23/2024 (Saturday)\n🕒 Time: 5:00PM – 7:00PM\n📍 Location: Queensbury Billiards & Cafe \nWhat’s Included: \n🎨 All Materials Provided: Canvas\, paints\, brushes—everything you need to create your masterpiece!\n🍷 Complimentary Glass of Wine: Sip and paint your way through the evening!\nBring your friends\, enjoy some laughs\, and create beautiful art together. Whether you’re a seasoned artist or a beginner\, this night is all about fun and creativity! \nSpaces are limited\, so reserve your spot today! Let’s make this Friendsgiving one to remember! 🥳
URL:https://qbbac.com/event/sip-canvas/
LOCATION:Queensbury Billiards & Café\, 324 Quaker Road\, Queensbury\, NY\, 12804\, United States
ORGANIZER;CN="Queensbury Billiards & Cafe":MAILTO:queensburybilliards@gmail.com
END:VEVENT
BEGIN:VEVENT
DTSTART;TZID=America/New_York:20240310T100000
DTEND;TZID=America/New_York:20240310T180000
DTSTAMP:20260421T223258
CREATED:20240129T120625Z
LAST-MODIFIED:20240129T120625Z
UID:217-1710064800-1710093600@qbbac.com
SUMMARY:Six Flags Great Escape Billiards Tournament Fundraiser
DESCRIPTION:Tournament buy-in will be collected on the day of the event.\nsee below for more details. disregard “FREE” Above\n\n\n\nEvent by Queensbury Billiards & Café LLC\n\n\n\n\n\n\n\n\n\n\n\n\nQueensbury Billiards & Café LLC\n\n\n\n\n\n\n\n\n\n\n\n\nPublic  · Anyone on or off Facebook\n\n\n\n\n\n\n\n Calling on Adirondack Community: Rally Behind Us! Join us at Queensbury Billiards for an electrifying event that combines the thrill of billiards with the excitement of supporting education for Six Flags Great Escape Billiards Tournament Fundraiser!\n Event Date: Sunday\, March 10th 2024\n Time: 12PM – FINISH\n Location: Queensbury Billiards\, 324 Quaker Rd\, Queensbury NY 12804\n Door will be open at 11AM for practice\n Registration starts at 11:30AM\n Entry Fee: $25 per person\, paid upon arrival by cash or card\n Highlights:\n Billiards Tournament: Show off your skills and compete for fantastic prizes – Trophy & Cash Prizes for 1st\, 2nd & 3rd!\n Delicious Food & Drinks: Fuel up with mouthwatering bites from our menu.\n 50/50 Raffle: Win a prize while contributing to a great cause!\n Networking: Connect with fellow billiards enthusiasts and professionals.\n Scholarship Fund: Support education by participating – proceeds benefit the Six Flags Great Escape Scholarship Fund.\n Why Support?\nYour participation not only fuels the thrill of the tournament but also plays a pivotal role in supporting the academic aspirations of deserving students through the Six Flags Great Escape Scholarship Fund.\n Spread the Word!\nShare the excitement on social media using #SFGEBilliardsTourney and let’s make this event a success for both billiards enthusiasts and aspiring scholars!\nDon’t miss the chance to make a difference while having a ball! Mark your calendar and get ready for a day of cues\, competition\, and community spirit at Queensbury Billiards! 
URL:https://qbbac.com/event/six-flags-great-escape-billiards-tournament-fundraiser/
LOCATION:Queensbury Billiards & Café\, 324 Quaker Road\, Queensbury\, NY\, 12804\, United States
CATEGORIES:Pool tournament event
ORGANIZER;CN="Queensbury Billiards & Cafe":MAILTO:queensburybilliards@gmail.com
END:VEVENT
BEGIN:VEVENT
DTSTART;TZID=UTC:20240208T180000
DTEND;TZID=UTC:20240208T210000
DTSTAMP:20260421T223258
CREATED:20240121T010059Z
LAST-MODIFIED:20240131T021604Z
UID:75-1707415200-1707426000@qbbac.com
SUMMARY:Sip N Strike
DESCRIPTION:Adirondack Winery is taking over our Billiards room to ignite the perfect pre-Valentine’s celebration with a unique collaboration! Picture an evening filled with the finest wines\, the thrilling atmosphere of billiards games\, prizes & FUN! \n🍷 ADK Wine Tasting:  Delight your taste buds with the refined and exceptional flavors found in Adirondack Winery’s premium wine selection\, showcasing their award-winning Dry Riesling\, honored as the NY Winery of the Year! \n🎱 Billiard Brilliance: Challenge your sweetheart or friends to thrilling billiard games in our vibrant atmosphere. Show off your skills or enjoy a friendly match – the competition is heating up! \n💖 Prize Opportunities: Elevate the evening with exciting prize opportunities! Lucky attendees have a chance to win exclusive prizes. Up for grabs are a gift basket from ADK Winery\, a Set of 9 Billiards Shot Glasses\, and a $25 restaurant gift card! The raffles will be done throughout the event! \n📸 Picture-Perfect Moments: Capture your love-filled moments at the specially curated photo area. It’s the ideal backdrop for creating memories that will last a lifetime. Share your experiences and let the world see the magic of the night. \n🎟️ Ticket Information: Secure your spot at this extraordinary event by grabbing your tickets now! Please purchase tickets together to secure your table. The ticket covers three hours of billiard games and wine tasting experience! \nJoin us for an unforgettable evening of wine\, billiards\, and romance! Seize the opportunity to celebrate love with a touch of playful competition. Cheers to love\, laughter\, and a night to remember! 🥂💑
URL:https://qbbac.com/event/sipnstrike/
LOCATION:Queensbury Billiards & Café\, 324 Quaker Road\, Queensbury\, NY\, 12804\, United States
ORGANIZER;CN="Queensbury Billiards & Cafe":MAILTO:queensburybilliards@gmail.com
END:VEVENT
END:VCALENDAR